Workbook

Sheet Лист1

Sheet 1
A1: Школа | B1: МБОУ СОШ УИОП г. Зернограда | E1: Отд./корп | I1: День | J1: 46273
A3: Прием пищи | B3: Раздел | C3: № рец. | D3: Блюдо | E3: Выход, г | F3: Цена | G3: Калорийность | H3: Белки | I3: Жиры | J3: Углеводы
A4: Завтрак | B4: гор.блюдо | C4: №390(к) | D4: Каша молочная манная | E4: 250 | F4: =[1]Лист1!$L$120 -> 56.72 | G4: =[1]Лист1!$J$120 -> 285 | H4: =[1]Лист1!G120 -> 14.25 | I4: =[1]Лист1!H120 -> 17.75 | J4: =[1]Лист1!I120 -> 31.25
H5: =[1]Лист1!G121 -> 0 | I5: =[1]Лист1!H121 -> 0 | J5: =[1]Лист1!I121 -> 0
B6: гор.напиток | C6: №868(к) | D6: Компот из сухофруктов | E6: 200 | F6: 15 | G6: =[1]Лист1!$J$122 -> 120 | H6: =[1]Лист1!G122 -> 0.5 | I6: =[1]Лист1!H122 -> 0.1 | J6: =[1]Лист1!I122 -> 25.4
B7: хлеб | D7: Хлеб пшеничный | E7: 50 | F7: 3 | G7: 121 | H7: =[1]Лист1!G123 -> 4.05 | I7: =[1]Лист1!H123 -> 0.5 | J7: =[1]Лист1!I123 -> 14.4
B8: фрукты | D8: Фрукты | E8: 100 | F8: 15 | G8: =[1]Лист1!$J$124 -> 85.6 | H8: =[1]Лист1!G124 -> 0.3 | I8: =[1]Лист1!H124 -> 0.2 | J8: =[1]Лист1!I124 -> 11.4
B9: Итого | E9: =SUM(E4:E8) -> 600 | F9: =SUM(F4:F8) -> 89.72 | G9: =SUM(G4:G8) -> 611.6 | H9: =SUM(H4:H8) -> 19.1 | I9: =SUM(I4:I8) -> 18.55 | J9: =SUM(J4:J8) -> 82.45
